BEGIN:VCALENDAR
VERSION:2.0
PRODID:-//Mental Health First Aid - ECPv6.15.16.1//NONSGML v1.0//EN
CALSCALE:GREGORIAN
METHOD:PUBLISH
X-WR-CALNAME:Mental Health First Aid
X-ORIGINAL-URL:https://mentalhealthfirstaid.org
X-WR-CALDESC:Events for Mental Health First Aid
REFRESH-INTERVAL;VALUE=DURATION:PT1H
X-Robots-Tag:noindex
X-PUBLISHED-TTL:PT1H
BEGIN:VTIMEZONE
TZID:America/Chicago
BEGIN:DAYLIGHT
TZOFFSETFROM:-0600
TZOFFSETTO:-0500
TZNAME:CDT
DTSTART:20250309T080000
END:DAYLIGHT
BEGIN:STANDARD
TZOFFSETFROM:-0500
TZOFFSETTO:-0600
TZNAME:CST
DTSTART:20251102T070000
END:STANDARD
BEGIN:DAYLIGHT
TZOFFSETFROM:-0600
TZOFFSETTO:-0500
TZNAME:CDT
DTSTART:20260308T080000
END:DAYLIGHT
BEGIN:STANDARD
TZOFFSETFROM:-0500
TZOFFSETTO:-0600
TZNAME:CST
DTSTART:20261101T070000
END:STANDARD
BEGIN:DAYLIGHT
TZOFFSETFROM:-0600
TZOFFSETTO:-0500
TZNAME:CDT
DTSTART:20270314T080000
END:DAYLIGHT
BEGIN:STANDARD
TZOFFSETFROM:-0500
TZOFFSETTO:-0600
TZNAME:CST
DTSTART:20271107T070000
END:STANDARD
END:VTIMEZONE
BEGIN:VTIMEZONE
TZID:America/New_York
BEGIN:DAYLIGHT
TZOFFSETFROM:-0500
TZOFFSETTO:-0400
TZNAME:EDT
DTSTART:20250309T070000
END:DAYLIGHT
BEGIN:STANDARD
TZOFFSETFROM:-0400
TZOFFSETTO:-0500
TZNAME:EST
DTSTART:20251102T060000
END:STANDARD
BEGIN:DAYLIGHT
TZOFFSETFROM:-0500
TZOFFSETTO:-0400
TZNAME:EDT
DTSTART:20260308T070000
END:DAYLIGHT
BEGIN:STANDARD
TZOFFSETFROM:-0400
TZOFFSETTO:-0500
TZNAME:EST
DTSTART:20261101T060000
END:STANDARD
BEGIN:DAYLIGHT
TZOFFSETFROM:-0500
TZOFFSETTO:-0400
TZNAME:EDT
DTSTART:20270314T070000
END:DAYLIGHT
BEGIN:STANDARD
TZOFFSETFROM:-0400
TZOFFSETTO:-0500
TZNAME:EST
DTSTART:20271107T060000
END:STANDARD
END:VTIMEZONE
BEGIN:VTIMEZONE
TZID:America/Los_Angeles
BEGIN:DAYLIGHT
TZOFFSETFROM:-0800
TZOFFSETTO:-0700
TZNAME:PDT
DTSTART:20250309T100000
END:DAYLIGHT
BEGIN:STANDARD
TZOFFSETFROM:-0700
TZOFFSETTO:-0800
TZNAME:PST
DTSTART:20251102T090000
END:STANDARD
BEGIN:DAYLIGHT
TZOFFSETFROM:-0800
TZOFFSETTO:-0700
TZNAME:PDT
DTSTART:20260308T100000
END:DAYLIGHT
BEGIN:STANDARD
TZOFFSETFROM:-0700
TZOFFSETTO:-0800
TZNAME:PST
DTSTART:20261101T090000
END:STANDARD
BEGIN:DAYLIGHT
TZOFFSETFROM:-0800
TZOFFSETTO:-0700
TZNAME:PDT
DTSTART:20270314T100000
END:DAYLIGHT
BEGIN:STANDARD
TZOFFSETFROM:-0700
TZOFFSETTO:-0800
TZNAME:PST
DTSTART:20271107T090000
END:STANDARD
END:VTIMEZONE
BEGIN:VEVENT
DTSTART;TZID=America/Chicago:20260303T090000
DTEND;TZID=America/Chicago:20260305T170000
DTSTAMP:20260421T044432
CREATED:20260127T164126Z
LAST-MODIFIED:20260127T164802Z
UID:29644-1772528400-1772730000@mentalhealthfirstaid.org
SUMMARY:Adult Instructor Training
DESCRIPTION:Take our 3-day Adult MHFA Instructor training and learn how to teach adults how to help other adults in your community.
URL:https://mentalhealthfirstaid.org/event/adult-instructor-training-24/
END:VEVENT
BEGIN:VEVENT
DTSTART;TZID=America/New_York:20260303T090000
DTEND;TZID=America/New_York:20260305T170000
DTSTAMP:20260421T044432
CREATED:20260127T164251Z
LAST-MODIFIED:20260127T164901Z
UID:29656-1772528400-1772730000@mentalhealthfirstaid.org
SUMMARY:Youth Instructor Training
DESCRIPTION:Take our 3-day Youth MHFA Instructor training and learn how to teach adults how to help youth in your community.
URL:https://mentalhealthfirstaid.org/event/youth-instructor-training-16/
END:VEVENT
BEGIN:VEVENT
DTSTART;TZID=America/New_York:20260304T090000
DTEND;TZID=America/New_York:20260306T170000
DTSTAMP:20260421T044432
CREATED:20260127T164128Z
LAST-MODIFIED:20260127T164712Z
UID:29645-1772614800-1772816400@mentalhealthfirstaid.org
SUMMARY:Adult Instructor Training
DESCRIPTION:Take our 3-day Adult MHFA Instructor training and learn how to teach adults how to help other adults in your community.
URL:https://mentalhealthfirstaid.org/event/adult-instructor-training-25/
END:VEVENT
BEGIN:VEVENT
DTSTART;TZID=America/Chicago:20260304T090000
DTEND;TZID=America/Chicago:20260306T170000
DTSTAMP:20260421T044432
CREATED:20260127T164321Z
LAST-MODIFIED:20260127T164924Z
UID:29657-1772614800-1772816400@mentalhealthfirstaid.org
SUMMARY:Youth Instructor Training
DESCRIPTION:Take our 3-day Youth MHFA Instructor training and learn how to teach adults how to help youth in your community.
URL:https://mentalhealthfirstaid.org/event/youth-instructor-training-17/
END:VEVENT
BEGIN:VEVENT
DTSTART;TZID=America/Chicago:20260309T090000
DTEND;TZID=America/Chicago:20260311T170000
DTSTAMP:20260421T044432
CREATED:20251230T163243Z
LAST-MODIFIED:20251230T163243Z
UID:29365-1773046800-1773248400@mentalhealthfirstaid.org
SUMMARY:Adult Instructor Training
DESCRIPTION:Take our 3-day Adult MHFA Instructor training and learn how to teach adults how to help other adults in your community.
URL:https://mentalhealthfirstaid.org/event/adult-instructor-training-22/
END:VEVENT
BEGIN:VEVENT
DTSTART;TZID=America/Chicago:20260309T090000
DTEND;TZID=America/Chicago:20260311T170000
DTSTAMP:20260421T044432
CREATED:20251230T163244Z
LAST-MODIFIED:20251230T163244Z
UID:29366-1773046800-1773248400@mentalhealthfirstaid.org
SUMMARY:Youth Instructor Training
DESCRIPTION:Take our 3-day Youth MHFA Instructor training and learn how to teach adults how to help youth in your community.
URL:https://mentalhealthfirstaid.org/event/youth-instructor-training-15/
END:VEVENT
BEGIN:VEVENT
DTSTART;TZID=America/New_York:20260310T090000
DTEND;TZID=America/New_York:20260312T170000
DTSTAMP:20260421T044432
CREATED:20260127T164131Z
LAST-MODIFIED:20260127T164707Z
UID:29646-1773133200-1773334800@mentalhealthfirstaid.org
SUMMARY:Adult Instructor Training
DESCRIPTION:Take our 3-day Adult MHFA Instructor training and learn how to teach adults how to help other adults in your community.
URL:https://mentalhealthfirstaid.org/event/adult-instructor-training-26/
END:VEVENT
BEGIN:VEVENT
DTSTART;TZID=America/New_York:20260310T090000
DTEND;TZID=America/New_York:20260312T170000
DTSTAMP:20260421T044432
CREATED:20260127T164323Z
LAST-MODIFIED:20260127T164921Z
UID:29658-1773133200-1773334800@mentalhealthfirstaid.org
SUMMARY:Youth Instructor Training
DESCRIPTION:Take our 3-day Youth MHFA Instructor training and learn how to teach adults how to help youth in your community.
URL:https://mentalhealthfirstaid.org/event/youth-instructor-training-18/
END:VEVENT
BEGIN:VEVENT
DTSTART;TZID=America/Los_Angeles:20260316T090000
DTEND;TZID=America/Los_Angeles:20260318T170000
DTSTAMP:20260421T044432
CREATED:20260127T164142Z
LAST-MODIFIED:20260127T164653Z
UID:29648-1773651600-1773853200@mentalhealthfirstaid.org
SUMMARY:Adult Instructor Training
DESCRIPTION:Take our 3-day Adult MHFA Instructor training and learn how to teach adults how to help other adults in your community.
URL:https://mentalhealthfirstaid.org/event/adult-instructor-training-28/
END:VEVENT
BEGIN:VEVENT
DTSTART;TZID=America/Los_Angeles:20260317T090000
DTEND;TZID=America/Los_Angeles:20260319T170000
DTSTAMP:20260421T044432
CREATED:20260127T164324Z
LAST-MODIFIED:20260127T164917Z
UID:29659-1773738000-1773939600@mentalhealthfirstaid.org
SUMMARY:Youth Instructor Training
DESCRIPTION:Take our 3-day Youth MHFA Instructor training and learn how to teach adults how to help youth in your community.
URL:https://mentalhealthfirstaid.org/event/youth-instructor-training-19/
END:VEVENT
BEGIN:VEVENT
DTSTART;TZID=America/New_York:20260317T090000
DTEND;TZID=America/New_York:20260320T170000
DTSTAMP:20260421T044432
CREATED:20260127T164144Z
LAST-MODIFIED:20260127T164732Z
UID:29649-1773738000-1774026000@mentalhealthfirstaid.org
SUMMARY:Adult + Higher Education Instructor Training
DESCRIPTION:Take our 4-day Adult + Higher Education Instructor training\, designed specifically for those in higher education. Day 1 of this course is the MHFA for Higher Education training\, which fulfills the Instructor Training prerequisite. Days 2-4 prepares you to teach both Adult MHFA and MHFA for Higher Education.
URL:https://mentalhealthfirstaid.org/event/adult-higher-education-instructor-training/
END:VEVENT
BEGIN:VEVENT
DTSTART;TZID=America/Chicago:20260318T090000
DTEND;TZID=America/Chicago:20260320T170000
DTSTAMP:20260421T044432
CREATED:20260127T164147Z
LAST-MODIFIED:20260127T164645Z
UID:29650-1773824400-1774026000@mentalhealthfirstaid.org
SUMMARY:Adult Instructor Training
DESCRIPTION:Take our 3-day Adult MHFA Instructor training and learn how to teach adults how to help other adults in your community.
URL:https://mentalhealthfirstaid.org/event/adult-instructor-training-29/
END:VEVENT
BEGIN:VEVENT
DTSTART;TZID=America/Chicago:20260323T090000
DTEND;TZID=America/Chicago:20260325T170000
DTSTAMP:20260421T044432
CREATED:20260127T164326Z
LAST-MODIFIED:20260127T164911Z
UID:29661-1774256400-1774458000@mentalhealthfirstaid.org
SUMMARY:Youth Instructor Training
DESCRIPTION:Take our 3-day Youth MHFA Instructor training and learn how to teach adults how to help youth in your community.
URL:https://mentalhealthfirstaid.org/event/youth-instructor-training-21/
END:VEVENT
BEGIN:VEVENT
DTSTART;TZID=America/New_York:20260324T090000
DTEND;TZID=America/New_York:20260326T170000
DTSTAMP:20260421T044432
CREATED:20260127T164151Z
LAST-MODIFIED:20260127T164638Z
UID:29652-1774342800-1774544400@mentalhealthfirstaid.org
SUMMARY:Adult Instructor Training
DESCRIPTION:Take our 3-day Adult MHFA Instructor training and learn how to teach adults how to help other adults in your community.
URL:https://mentalhealthfirstaid.org/event/adult-instructor-training-31/
END:VEVENT
BEGIN:VEVENT
DTSTART;TZID=America/New_York:20260324T090000
DTEND;TZID=America/New_York:20260326T170000
DTSTAMP:20260421T044432
CREATED:20260127T164335Z
LAST-MODIFIED:20260127T164907Z
UID:29662-1774342800-1774544400@mentalhealthfirstaid.org
SUMMARY:Youth Instructor Training
DESCRIPTION:Take our 3-day Youth MHFA Instructor training and learn how to teach adults how to help youth in your community.
URL:https://mentalhealthfirstaid.org/event/youth-instructor-training-22/
END:VEVENT
BEGIN:VEVENT
DTSTART;TZID=America/Chicago:20260325T090000
DTEND;TZID=America/Chicago:20260327T170000
DTSTAMP:20260421T044432
CREATED:20260127T164245Z
LAST-MODIFIED:20260127T164636Z
UID:29653-1774429200-1774630800@mentalhealthfirstaid.org
SUMMARY:Adult Instructor Training
DESCRIPTION:Take our 3-day Adult MHFA Instructor training and learn how to teach adults how to help other adults in your community.
URL:https://mentalhealthfirstaid.org/event/adult-instructor-training-32/
END:VEVENT
BEGIN:VEVENT
DTSTART;TZID=America/Chicago:20260331T090000
DTEND;TZID=America/Chicago:20260402T170000
DTSTAMP:20260421T044432
CREATED:20260127T164250Z
LAST-MODIFIED:20260127T164534Z
UID:29655-1774947600-1775149200@mentalhealthfirstaid.org
SUMMARY:Adult Instructor Training
DESCRIPTION:Take our 3-day Adult MHFA Instructor training and learn how to teach adults how to help other adults in your community.
URL:https://mentalhealthfirstaid.org/event/adult-instructor-training-34/
END:VEVENT
BEGIN:VEVENT
DTSTART;TZID=America/New_York:20260331T090000
DTEND;TZID=America/New_York:20260402T170000
DTSTAMP:20260421T044432
CREATED:20260127T164337Z
LAST-MODIFIED:20260127T164905Z
UID:29663-1774947600-1775149200@mentalhealthfirstaid.org
SUMMARY:Youth Instructor Training
DESCRIPTION:Take our 3-day Youth MHFA Instructor training and learn how to teach adults how to help youth in your community.
URL:https://mentalhealthfirstaid.org/event/youth-instructor-training-23/
END:VEVENT
END:VCALENDAR