BEGIN:VCALENDAR
VERSION:2.0
PRODID:-//Mental Health First Aid - ECPv6.15.16.1//NONSGML v1.0//EN
CALSCALE:GREGORIAN
METHOD:PUBLISH
X-ORIGINAL-URL:https://mentalhealthfirstaid.org
X-WR-CALDESC:Events for Mental Health First Aid
REFRESH-INTERVAL;VALUE=DURATION:PT1H
X-Robots-Tag:noindex
X-PUBLISHED-TTL:PT1H
BEGIN:VTIMEZONE
TZID:America/Chicago
BEGIN:DAYLIGHT
TZOFFSETFROM:-0600
TZOFFSETTO:-0500
TZNAME:CDT
DTSTART:20250309T080000
END:DAYLIGHT
BEGIN:STANDARD
TZOFFSETFROM:-0500
TZOFFSETTO:-0600
TZNAME:CST
DTSTART:20251102T070000
END:STANDARD
BEGIN:DAYLIGHT
TZOFFSETFROM:-0600
TZOFFSETTO:-0500
TZNAME:CDT
DTSTART:20260308T080000
END:DAYLIGHT
BEGIN:STANDARD
TZOFFSETFROM:-0500
TZOFFSETTO:-0600
TZNAME:CST
DTSTART:20261101T070000
END:STANDARD
BEGIN:DAYLIGHT
TZOFFSETFROM:-0600
TZOFFSETTO:-0500
TZNAME:CDT
DTSTART:20270314T080000
END:DAYLIGHT
BEGIN:STANDARD
TZOFFSETFROM:-0500
TZOFFSETTO:-0600
TZNAME:CST
DTSTART:20271107T070000
END:STANDARD
END:VTIMEZONE
BEGIN:VEVENT
DTSTART;TZID=America/Chicago:20260512T090000
DTEND;TZID=America/Chicago:20260514T170000
DTSTAMP:20260421T060510
CREATED:20260403T193836Z
LAST-MODIFIED:20260403T193836Z
UID:30315-1778576400-1778778000@mentalhealthfirstaid.org
SUMMARY:Adult Instructor Training
DESCRIPTION:Take our 3-day Adult MHFA Instructor training and learn how to teach adults how to help other adults in your community.
URL:https://mentalhealthfirstaid.org/event/adult-instructor-training-48/
END:VEVENT
BEGIN:VEVENT
DTSTART;TZID=America/Chicago:20260513T090000
DTEND;TZID=America/Chicago:20260515T170000
DTSTAMP:20260421T060510
CREATED:20260403T193902Z
LAST-MODIFIED:20260403T193902Z
UID:30321-1778662800-1778864400@mentalhealthfirstaid.org
SUMMARY:Youth Instructor Training
DESCRIPTION:Take our 3-day Youth MHFA Instructor training and learn how to teach adults how to help youth in your community.
URL:https://mentalhealthfirstaid.org/event/youth-instructor-training-30/
END:VEVENT
END:VCALENDAR